BEGIN:VCALENDAR
VERSION:2.0
PRODID:-//NFGUYANE - ECPv6.15.16//NONSGML v1.0//EN
CALSCALE:GREGORIAN
METHOD:PUBLISH
X-WR-CALNAME:NFGUYANE
X-ORIGINAL-URL:https://nfguyane.fr
X-WR-CALDESC:Évènements pour NFGUYANE
REFRESH-INTERVAL;VALUE=DURATION:PT1H
X-Robots-Tag:noindex
X-PUBLISHED-TTL:PT1H
BEGIN:VTIMEZONE
TZID:UTC
BEGIN:STANDARD
TZOFFSETFROM:+0000
TZOFFSETTO:+0000
TZNAME:UTC
DTSTART:20210101T000000
END:STANDARD
END:VTIMEZONE
BEGIN:VEVENT
DTSTART;VALUE=DATE:20251014
DTEND;VALUE=DATE:20251015
DTSTAMP:20260421T200352
CREATED:20220116T043803Z
LAST-MODIFIED:20260208T201052Z
UID:474-1760400000-1760486399@nfguyane.fr
SUMMARY:Réunion – Les militants ont la parole
DESCRIPTION:Nouvelle Force de Guyane organise une réunion dédiée à l’expression des militants. Cet échange a pour objectif de donner la parole à celles et ceux qui s’engagent au quotidien pour le mouvement\, de partager les expériences de terrain\, de recueillir les propositions et de renforcer la dynamique collective au service de Cayenne et de la Guyane.
URL:https://nfguyane.fr/event/reunion-les-militants-ont-la-parole/
LOCATION:Siège de Nouvelle Force de Guyane
CATEGORIES:Programme
ATTACH;FMTTYPE=image/jpeg:https://nfguyane.fr/wp-content/uploads/2022/01/WhatsApp-Image-2026-02-08-at-16.04.07.jpeg
END:VEVENT
BEGIN:VEVENT
DTSTART;VALUE=DATE:20251025
DTEND;VALUE=DATE:20251026
DTSTAMP:20260421T200352
CREATED:20220116T043803Z
LAST-MODIFIED:20260208T192239Z
UID:5056-1761350400-1761436799@nfguyane.fr
SUMMARY:Octobre Rose – Action de sensibilisation à Kourou
DESCRIPTION:Dans le cadre d’Octobre Rose\, mois dédié à la sensibilisation et à la lutte contre le cancer du sein\, Nouvelle Force de Guyane organise une action citoyenne à Kourou\, sous le parrainage et l’organisation de Madame Yannick François. \nMarraine de l’événement\, Yannick François porte cette initiative avec engagement afin de sensibiliser le public à l’importance du dépistage précoce\, de l’information et du soutien aux personnes concernées par la maladie. Cette rencontre se veut un temps de prévention\, de solidarité et d’échanges ouverts avec les citoyens. \n\nDéroulement de l’événement\n\n\nAccueil des participants \n\n\nPrésentation de l’action Octobre Rose et de ses enjeux de santé publique \n\n\nIntervention de Madame Yannick François\, marraine et organisatrice \n\n\nTemps d’échanges avec le public \n\n\nAction de sensibilisation et moment de solidarité \n\n\nClôture de l’événement
URL:https://nfguyane.fr/event/octobre-rose-action-de-sensibilisation-a-kourou/
LOCATION:Kourou
CATEGORIES:Programme
ATTACH;FMTTYPE=image/jpeg:https://nfguyane.fr/wp-content/uploads/2022/01/WhatsApp-Image-2026-02-08-at-16.17.13.jpeg
END:VEVENT
BEGIN:VEVENT
DTSTART;TZID=UTC:20220518T100000
DTEND;TZID=UTC:20221117T170000
DTSTAMP:20260421T200352
CREATED:20220123T114900Z
LAST-MODIFIED:20260208T194908Z
UID:5057-1652868000-1668704400@nfguyane.fr
SUMMARY:Défilé des Mister Guyane – Invitation officielle
DESCRIPTION:Le Président Louis-Mike CALUMEY a le plaisir d’inviter le public au défilé officiel des Mister Guyane\, qui se déroulera le 29 décembre 2025. Cet événement prestigieux précède le départ du nouveau Mister France\, représentant de la Guyane sur la scène nationale. \nCette rencontre met à l’honneur la jeunesse\, l’élégance et le rayonnement culturel de la Guyane. Elle offre aux habitants et aux partenaires l’occasion de célébrer le talent et l’engagement des candidats tout en renforçant la visibilité de la Guyane à l’échelle nationale.
URL:https://nfguyane.fr/event/defile-des-mister-guyane-invitation-officielle/
LOCATION:Collectivité Territoriale de Guyane
CATEGORIES:Programme
ATTACH;FMTTYPE=image/jpeg:https://nfguyane.fr/wp-content/uploads/2026/02/WhatsApp-Image-2026-02-08-at-16.39.04.jpeg
END:VEVENT
BEGIN:VEVENT
DTSTART;VALUE=DATE:20251025
DTEND;VALUE=DATE:20251026
DTSTAMP:20260421T200352
CREATED:20220123T114900Z
LAST-MODIFIED:20260208T191553Z
UID:1336-1761350400-1761436799@nfguyane.fr
SUMMARY:Rentrée politique de Nouvelle Force de Guyane
DESCRIPTION:Le 25 octobre\, Nouvelle Force de Guyane organise sa rentrée politique\, un temps fort marquant le lancement officiel de ses actions et orientations pour Cayenne et l’ensemble des communes de Guyane. \nCette rencontre rassemble les militants\, sympathisants et citoyens autour d’un projet politique fondé sur l’engagement\, la proximité et la responsabilité. \nÀ travers cette rentrée politique\, Nouvelle Force de Guyane réaffirme sa volonté de construire une Guyane plus juste\, inclusive et solidaire\, en plaçant les citoyens au cœur des décisions publiques et en préparant activement les échéances électorales à venir.
URL:https://nfguyane.fr/event/rentree-politique-de-nouvelle-force-de-guyane/
LOCATION:Hôtel Royal Amazonia
CATEGORIES:Programme
ATTACH;FMTTYPE=image/jpeg:https://nfguyane.fr/wp-content/uploads/2022/01/WhatsApp-Image-2026-02-08-at-16.14.13.jpeg
END:VEVENT
BEGIN:VEVENT
DTSTART;VALUE=DATE:20250822
DTEND;VALUE=DATE:20250823
DTSTAMP:20260421T200352
CREATED:20210123T114941Z
LAST-MODIFIED:20260208T183350Z
UID:1338-1755820800-1755907199@nfguyane.fr
SUMMARY:Solidarité avec la famille et la cité Zéphyr
DESCRIPTION:Nouvelle Force de Guyane (NFG)\, aux côtés d’Axel RINO et de Leslie\, habitants de la cité Zéphyr\, exprime tout son soutien à la famille et à la communauté touchées par la perte tragique de leur frère et camarades. Ensemble\, nous partageons leur douleur et réaffirmons notre engagement envers la sécurité et le bien-être de tous les habitants de la cité.
URL:https://nfguyane.fr/event/solidarite-avec-la-famille-et-la-cite-zephyr/
LOCATION:Cité Zéphyr\, Cayenne\, French Guiana
CATEGORIES:Programme
ATTACH;FMTTYPE=image/jpeg:https://nfguyane.fr/wp-content/uploads/2021/01/WhatsApp-Image-2026-02-08-at-15.23.48.jpeg
END:VEVENT
END:VCALENDAR